BEGIN:VCALENDAR
VERSION:2.0
PRODID:-//St Thomas More Church, Dulwich - ECPv5.10.0//NONSGML v1.0//EN
CALSCALE:GREGORIAN
METHOD:PUBLISH
X-WR-CALNAME:St Thomas More Church, Dulwich
X-ORIGINAL-URL:http://www.stthomasmorechurch.co.uk
X-WR-CALDESC:Events for St Thomas More Church, Dulwich
BEGIN:VTIMEZONE
TZID:UTC
BEGIN:STANDARD
TZOFFSETFROM:+0000
TZOFFSETTO:+0000
TZNAME:UTC
DTSTART:20140101T000000
END:STANDARD
END:VTIMEZONE
BEGIN:VEVENT
DTSTART;VALUE=DATE:20140413
DTEND;VALUE=DATE:20140414
DTSTAMP:20260424T022429
CREATED:20140117T144056Z
LAST-MODIFIED:20140117T144056Z
UID:372-1397347200-1397433599@www.stthomasmorechurch.co.uk
SUMMARY:Virgin Money London Marathon
DESCRIPTION:Would you be interested in taking part on behalf of Pecan who fund the Southwark Foodbank?  They are hoping to raise £3\,000 for this cause. \nIf you have any questions\, contact Vincent on 020 7732 0007.
URL:http://www.stthomasmorechurch.co.uk/event/virgin-money-london-marathon/
END:VEVENT
END:VCALENDAR