BEGIN:VCALENDAR
VERSION:2.0
PRODID:-//St Thomas More Church, Dulwich - ECPv5.10.0//NONSGML v1.0//EN
CALSCALE:GREGORIAN
METHOD:PUBLISH
X-WR-CALNAME:St Thomas More Church, Dulwich
X-ORIGINAL-URL:http://www.stthomasmorechurch.co.uk
X-WR-CALDESC:Events for St Thomas More Church, Dulwich
BEGIN:VTIMEZONE
TZID:UTC
BEGIN:STANDARD
TZOFFSETFROM:+0000
TZOFFSETTO:+0000
TZNAME:UTC
DTSTART:20140101T000000
END:STANDARD
END:VTIMEZONE
BEGIN:VEVENT
DTSTART;TZID=UTC:20140430T193000
DTEND;TZID=UTC:20140430T203000
DTSTAMP:20260423T205158
CREATED:20140328T152707Z
LAST-MODIFIED:20140328T152830Z
UID:426-1398886200-1398889800@www.stthomasmorechurch.co.uk
SUMMARY:The Sacraments: the sunshine of the soul
DESCRIPTION:A series of talks being organised by the Faith Movement.  All talks take place at 7.30pm in the crypt of Our Lady of the Assumption Catholic church\, Warwick Street\, London (nearest tube station is Piccadilly Circus).  Please note that the entrance to the crypt is via the basement stairs (next to 24 Golden Square\, London W1F 9JR). \nThe next in the series is on Wednesday 30 April 2014 – The sacraments: the sunshine of the soul.  Speaker:  Fr Michael-John Galbraith.
URL:http://www.stthomasmorechurch.co.uk/event/the-purpose-of-the-church-2/
LOCATION:Our Lady of the Assumption Catholic Church\, Warwick Street\, London\, W1F 9JR\, United Kingdom
END:VEVENT
END:VCALENDAR