BEGIN:VCALENDAR
VERSION:2.0
PRODID:-//St Thomas More Church, Dulwich - ECPv5.10.0//NONSGML v1.0//EN
CALSCALE:GREGORIAN
METHOD:PUBLISH
X-WR-CALNAME:St Thomas More Church, Dulwich
X-ORIGINAL-URL:http://www.stthomasmorechurch.co.uk
X-WR-CALDESC:Events for St Thomas More Church, Dulwich
BEGIN:VTIMEZONE
TZID:UTC
BEGIN:STANDARD
TZOFFSETFROM:+0000
TZOFFSETTO:+0000
TZNAME:UTC
DTSTART:20140101T000000
END:STANDARD
END:VTIMEZONE
BEGIN:VEVENT
DTSTART;TZID=UTC:20140621T100000
DTEND;TZID=UTC:20140621T200000
DTSTAMP:20260423T092525
CREATED:20140530T125617Z
LAST-MODIFIED:20140530T125617Z
UID:499-1403344800-1403380800@www.stthomasmorechurch.co.uk
SUMMARY:Summer Youth Festival
DESCRIPTION:Summer Youth Festival\, 21 June\, Aylesford Priory.  Open to young people school years 7-11.  Includes varied activities\, music and workshops.  Day ends with Mass.  This year’s theme is Blessed the Poor in Spirit.
URL:http://www.stthomasmorechurch.co.uk/event/summer-youth-festival/
LOCATION:Aylesford Priory\, Kent\, ME20 7BX\, United Kingdom
END:VEVENT
END:VCALENDAR