BEGIN:VCALENDAR
VERSION:2.0
PRODID:-//St Thomas More Church, Dulwich - ECPv5.10.0//NONSGML v1.0//EN
CALSCALE:GREGORIAN
METHOD:PUBLISH
X-WR-CALNAME:St Thomas More Church, Dulwich
X-ORIGINAL-URL:http://www.stthomasmorechurch.co.uk
X-WR-CALDESC:Events for St Thomas More Church, Dulwich
BEGIN:VTIMEZONE
TZID:UTC
BEGIN:STANDARD
TZOFFSETFROM:+0000
TZOFFSETTO:+0000
TZNAME:UTC
DTSTART:20140101T000000
END:STANDARD
END:VTIMEZONE
BEGIN:VEVENT
DTSTART;TZID=UTC:20140208T140000
DTEND;TZID=UTC:20140208T170000
DTSTAMP:20260425T004055
CREATED:20140124T125830Z
LAST-MODIFIED:20140124T125845Z
UID:385-1391868000-1391878800@www.stthomasmorechurch.co.uk
SUMMARY:Stress/Distress
DESCRIPTION:Welcome and inclusion for people at risk or suffering with poor mental health.  Workshop for anyone concerned wit this problem in the parish.  Organised by Marriage and Family Life.
URL:http://www.stthomasmorechurch.co.uk/event/stressdistress/
END:VEVENT
END:VCALENDAR