BEGIN:VCALENDAR
VERSION:2.0
PRODID:-//St Thomas More Church, Dulwich - ECPv5.10.0//NONSGML v1.0//EN
CALSCALE:GREGORIAN
METHOD:PUBLISH
X-WR-CALNAME:St Thomas More Church, Dulwich
X-ORIGINAL-URL:http://www.stthomasmorechurch.co.uk
X-WR-CALDESC:Events for St Thomas More Church, Dulwich
BEGIN:VTIMEZONE
TZID:UTC
BEGIN:STANDARD
TZOFFSETFROM:+0000
TZOFFSETTO:+0000
TZNAME:UTC
DTSTART:20140101T000000
END:STANDARD
END:VTIMEZONE
BEGIN:VEVENT
DTSTART;VALUE=DATE:20140726
DTEND;VALUE=DATE:20140817
DTSTAMP:20260422T183003
CREATED:20140425T142038Z
LAST-MODIFIED:20140425T142038Z
UID:490-1406332800-1408233599@www.stthomasmorechurch.co.uk
SUMMARY:St John Bosco Summer Camp
DESCRIPTION:St John Bosco Children’s Summer Camp – will be running again in August this year at a cost of £140 for one week.  This is a camping holiday which has an enormous range of well-supervised outdoor activities such as\, mountain biking\, boating\, fishing\, climbing\, swimming\, orienteering\, etc.  For full details see their website www.svpboscocamp.org.uk or contact the parish office.
URL:http://www.stthomasmorechurch.co.uk/event/st-john-bosco-summer-camp/
END:VEVENT
END:VCALENDAR