BEGIN:VCALENDAR
VERSION:2.0
PRODID:-//St Thomas More Church, Dulwich - ECPv5.10.0//NONSGML v1.0//EN
CALSCALE:GREGORIAN
METHOD:PUBLISH
X-WR-CALNAME:St Thomas More Church, Dulwich
X-ORIGINAL-URL:http://www.stthomasmorechurch.co.uk
X-WR-CALDESC:Events for St Thomas More Church, Dulwich
BEGIN:VTIMEZONE
TZID:UTC
BEGIN:STANDARD
TZOFFSETFROM:+0000
TZOFFSETTO:+0000
TZNAME:UTC
DTSTART:20140101T000000
END:STANDARD
END:VTIMEZONE
BEGIN:VEVENT
DTSTART;TZID=UTC:20141018T103000
DTEND;TZID=UTC:20141018T160000
DTSTAMP:20260422T010744
CREATED:20140924T154511Z
LAST-MODIFIED:20140924T154511Z
UID:569-1413628200-1413648000@www.stthomasmorechurch.co.uk
SUMMARY:Southwark J&P Autumn Assembly
DESCRIPTION:This year the Asembly is being organised in conjunction with CAFOD to mark the Southwark launch of their One Climate\, One World campaign.
URL:http://www.stthomasmorechurch.co.uk/event/southwark-jp-autumn-assembly/
LOCATION:Amigo Hall (St George’s Cathedral)\, Lambeth Road\, London\, SE1 7HY\, United Kingdom
END:VEVENT
END:VCALENDAR