BEGIN:VCALENDAR
VERSION:2.0
PRODID:-//St Thomas More Church, Dulwich - ECPv5.10.0//NONSGML v1.0//EN
CALSCALE:GREGORIAN
METHOD:PUBLISH
X-WR-CALNAME:St Thomas More Church, Dulwich
X-ORIGINAL-URL:http://www.stthomasmorechurch.co.uk
X-WR-CALDESC:Events for St Thomas More Church, Dulwich
BEGIN:VTIMEZONE
TZID:UTC
BEGIN:STANDARD
TZOFFSETFROM:+0000
TZOFFSETTO:+0000
TZNAME:UTC
DTSTART:20140101T000000
END:STANDARD
END:VTIMEZONE
BEGIN:VEVENT
DTSTART;TZID=UTC:20141008T160000
DTEND;TZID=UTC:20141008T180000
DTSTAMP:20260422T073457
CREATED:20140924T141424Z
LAST-MODIFIED:20140924T141424Z
UID:556-1412784000-1412791200@www.stthomasmorechurch.co.uk
SUMMARY:Secondary School Transfers
DESCRIPTION:Fr Gerry will be available to sign Catholicity reference forms in the John Paul Centre. \nHe will also be available on 16 October (4-6pm) and 18 October 10.30-11.30am
URL:http://www.stthomasmorechurch.co.uk/event/secondary-school-transfers/
LOCATION:John Paul Centre
END:VEVENT
END:VCALENDAR