BEGIN:VCALENDAR
VERSION:2.0
PRODID:-//St Thomas More Church, Dulwich - ECPv5.10.0//NONSGML v1.0//EN
CALSCALE:GREGORIAN
METHOD:PUBLISH
X-WR-CALNAME:St Thomas More Church, Dulwich
X-ORIGINAL-URL:http://www.stthomasmorechurch.co.uk
X-WR-CALDESC:Events for St Thomas More Church, Dulwich
BEGIN:VTIMEZONE
TZID:UTC
BEGIN:STANDARD
TZOFFSETFROM:+0000
TZOFFSETTO:+0000
TZNAME:UTC
DTSTART:20140101T000000
END:STANDARD
END:VTIMEZONE
BEGIN:VEVENT
DTSTART;TZID=UTC:20140621T130000
DTEND;TZID=UTC:20140621T160000
DTSTAMP:20260423T063346
CREATED:20140606T111843Z
LAST-MODIFIED:20140606T111843Z
UID:545-1403355600-1403366400@www.stthomasmorechurch.co.uk
SUMMARY:Scout's Annual Summer Fair
DESCRIPTION:The 8th Camberwell Scout Group will be holding their 23rd Annual Summer Fair on Saturday 21 June in the church grounds.  Bring along the family\, there will be something for all to take part in.  Money raised will go towards the annual running costs of the group.
URL:http://www.stthomasmorechurch.co.uk/event/scouts-annual-summer-fair/
END:VEVENT
END:VCALENDAR