BEGIN:VCALENDAR
VERSION:2.0
PRODID:-//St Thomas More Church, Dulwich - ECPv5.10.0//NONSGML v1.0//EN
CALSCALE:GREGORIAN
METHOD:PUBLISH
X-WR-CALNAME:St Thomas More Church, Dulwich
X-ORIGINAL-URL:http://www.stthomasmorechurch.co.uk
X-WR-CALDESC:Events for St Thomas More Church, Dulwich
BEGIN:VTIMEZONE
TZID:UTC
BEGIN:STANDARD
TZOFFSETFROM:+0000
TZOFFSETTO:+0000
TZNAME:UTC
DTSTART:20140101T000000
END:STANDARD
END:VTIMEZONE
BEGIN:VEVENT
DTSTART;VALUE=DATE:20140214
DTEND;VALUE=DATE:20140308
DTSTAMP:20260424T185648
CREATED:20140214T142012Z
LAST-MODIFIED:20140214T142012Z
UID:402-1392336000-1394236799@www.stthomasmorechurch.co.uk
SUMMARY:School Admission Appeal Panel Member
DESCRIPTION:Are you willing to serve as a panel member?  For details\, please contact the Schools’ Commission on 01689 829 331 or office@educationcommission.org.uk.  Forms must be back by 7 March 2014.
URL:http://www.stthomasmorechurch.co.uk/event/school-admission-appeal-panel-member/
END:VEVENT
END:VCALENDAR