BEGIN:VCALENDAR
VERSION:2.0
PRODID:-//St Thomas More Church, Dulwich - ECPv5.10.0//NONSGML v1.0//EN
CALSCALE:GREGORIAN
METHOD:PUBLISH
X-WR-CALNAME:St Thomas More Church, Dulwich
X-ORIGINAL-URL:http://www.stthomasmorechurch.co.uk
X-WR-CALDESC:Events for St Thomas More Church, Dulwich
BEGIN:VTIMEZONE
TZID:UTC
BEGIN:STANDARD
TZOFFSETFROM:+0000
TZOFFSETTO:+0000
TZNAME:UTC
DTSTART:20140101T000000
END:STANDARD
END:VTIMEZONE
BEGIN:VEVENT
DTSTART;TZID=UTC:20140503T094500
DTEND;TZID=UTC:20140503T170000
DTSTAMP:20260423T203609
CREATED:20140425T135416Z
LAST-MODIFIED:20140425T135416Z
UID:472-1399110300-1399136400@www.stthomasmorechurch.co.uk
SUMMARY:Retreat on the First Letter of St John
DESCRIPTION:Led by Brother Thomas from the Community of St John.
URL:http://www.stthomasmorechurch.co.uk/event/retreat-on-the-first-letter-of-st-john/
LOCATION:Holy Apostles Church\, 47 Cumberland Street\, London\, SW1V 4LY\, United Kingdom
END:VEVENT
END:VCALENDAR