BEGIN:VCALENDAR
VERSION:2.0
PRODID:-//St Thomas More Church, Dulwich - ECPv5.10.0//NONSGML v1.0//EN
CALSCALE:GREGORIAN
METHOD:PUBLISH
X-WR-CALNAME:St Thomas More Church, Dulwich
X-ORIGINAL-URL:http://www.stthomasmorechurch.co.uk
X-WR-CALDESC:Events for St Thomas More Church, Dulwich
BEGIN:VTIMEZONE
TZID:UTC
BEGIN:STANDARD
TZOFFSETFROM:+0000
TZOFFSETTO:+0000
TZNAME:UTC
DTSTART:20140101T000000
END:STANDARD
END:VTIMEZONE
BEGIN:VEVENT
DTSTART;TZID=UTC:20140616T180000
DTEND;TZID=UTC:20140616T210000
DTSTAMP:20260423T105950
CREATED:20140606T114834Z
LAST-MODIFIED:20140606T114834Z
UID:547-1402941600-1402952400@www.stthomasmorechurch.co.uk
SUMMARY:Jubilee Celebration
DESCRIPTION:In honour of Fr Gerry’s 40th anniversary of Ordination\,  the parish is holding a celebration on Monday 16 June.  We will begin with Mass at 6pm\, followed by a get together in the John Paul Centre. \nPlease come along – bring some food to share and a bottle.
URL:http://www.stthomasmorechurch.co.uk/event/jubilee-celebration/
LOCATION:John Paul Centre
END:VEVENT
END:VCALENDAR