BEGIN:VCALENDAR
VERSION:2.0
PRODID:-//St Thomas More Church, Dulwich - ECPv5.10.0//NONSGML v1.0//EN
CALSCALE:GREGORIAN
METHOD:PUBLISH
X-WR-CALNAME:St Thomas More Church, Dulwich
X-ORIGINAL-URL:http://www.stthomasmorechurch.co.uk
X-WR-CALDESC:Events for St Thomas More Church, Dulwich
BEGIN:VTIMEZONE
TZID:UTC
BEGIN:STANDARD
TZOFFSETFROM:+0000
TZOFFSETTO:+0000
TZNAME:UTC
DTSTART:20140101T000000
END:STANDARD
END:VTIMEZONE
BEGIN:VEVENT
DTSTART;TZID=UTC:20140315T100000
DTEND;TZID=UTC:20140315T163000
DTSTAMP:20260424T051716
CREATED:20140124T131939Z
LAST-MODIFIED:20140124T131939Z
UID:390-1394877600-1394901000@www.stthomasmorechurch.co.uk
SUMMARY:Introduction into Spiritual Life
DESCRIPTION:Would you like to develop a strong spiritual life and deepen your personal relationship with Jesus?\nWould you like to learn how to practice Prayer of the Heart?\nWould you like to learn practically about ‘Lectio Divina‘ and its relationship to your spiritual growth?\nWould you like to discover the action of the Holy Spirit in you?\n\nThis is a first level course in spiritual life with Jean Khoury.  Sessions take place at St Patrick’s RC Church in Soho Square on Saturdays 10-16.30 on 15 March\, 22 March\, 20 March\, 26 April\, 10 May\, 17 May and 31 May. \nCost £20 per day (£10 for students and unwaged) which includes tea and coffee.  Participants should being a packed lunch.
URL:http://www.stthomasmorechurch.co.uk/event/introduction-into-spiritual-life/
LOCATION:St Patrick’s RC Church\, 21a Soho Square\, London\, W1D 4NR\, United Kingdom
END:VEVENT
END:VCALENDAR