BEGIN:VCALENDAR
VERSION:2.0
PRODID:-//St Thomas More Church, Dulwich - ECPv5.10.0//NONSGML v1.0//EN
CALSCALE:GREGORIAN
METHOD:PUBLISH
X-WR-CALNAME:St Thomas More Church, Dulwich
X-ORIGINAL-URL:http://www.stthomasmorechurch.co.uk
X-WR-CALDESC:Events for St Thomas More Church, Dulwich
BEGIN:VTIMEZONE
TZID:UTC
BEGIN:STANDARD
TZOFFSETFROM:+0000
TZOFFSETTO:+0000
TZNAME:UTC
DTSTART:20140101T000000
END:STANDARD
END:VTIMEZONE
BEGIN:VEVENT
DTSTART;TZID=UTC:20140129T180000
DTEND;TZID=UTC:20140129T200000
DTSTAMP:20260425T032954
CREATED:20140124T130814Z
LAST-MODIFIED:20140124T130814Z
UID:389-1391018400-1391025600@www.stthomasmorechurch.co.uk
SUMMARY:Housing for the Common Good
DESCRIPTION:Housing Justice are organising an event which will be led by David Orr with Bishop Pat Lynch and Alison Gelder to discuss what sort of housing we need in Britain\, who it should be for\, etc.  Do please come along.
URL:http://www.stthomasmorechurch.co.uk/event/housing-for-the-common-good/
LOCATION:Amigo Hall (St George’s Cathedral)\, Lambeth Road\, London\, SE1 7HY\, United Kingdom
END:VEVENT
END:VCALENDAR