BEGIN:VCALENDAR
VERSION:2.0
PRODID:-//St Thomas More Church, Dulwich - ECPv5.10.0//NONSGML v1.0//EN
CALSCALE:GREGORIAN
METHOD:PUBLISH
X-WR-CALNAME:St Thomas More Church, Dulwich
X-ORIGINAL-URL:http://www.stthomasmorechurch.co.uk
X-WR-CALDESC:Events for St Thomas More Church, Dulwich
BEGIN:VTIMEZONE
TZID:UTC
BEGIN:STANDARD
TZOFFSETFROM:+0000
TZOFFSETTO:+0000
TZNAME:UTC
DTSTART:20140101T000000
END:STANDARD
END:VTIMEZONE
BEGIN:VEVENT
DTSTART;TZID=UTC:20141010T190000
DTEND;TZID=UTC:20141010T210000
DTSTAMP:20260422T042313
CREATED:20140924T152852Z
LAST-MODIFIED:20140924T152852Z
UID:563-1412967600-1412974800@www.stthomasmorechurch.co.uk
SUMMARY:Frugal Meal
DESCRIPTION:Make a place at your table \nBring and share snacks frugal meal.  This is a parish gesture of solidarity with our global family who suffer profound hunger.  See list of suggested food in the church porch.
URL:http://www.stthomasmorechurch.co.uk/event/frugal-meal/
LOCATION:John Paul Centre
END:VEVENT
END:VCALENDAR