BEGIN:VCALENDAR
VERSION:2.0
PRODID:-//St Thomas More Church, Dulwich - ECPv5.10.0//NONSGML v1.0//EN
CALSCALE:GREGORIAN
METHOD:PUBLISH
X-WR-CALNAME:St Thomas More Church, Dulwich
X-ORIGINAL-URL:http://www.stthomasmorechurch.co.uk
X-WR-CALDESC:Events for St Thomas More Church, Dulwich
BEGIN:VTIMEZONE
TZID:UTC
BEGIN:STANDARD
TZOFFSETFROM:+0000
TZOFFSETTO:+0000
TZNAME:UTC
DTSTART:20140101T000000
END:STANDARD
END:VTIMEZONE
BEGIN:VEVENT
DTSTART;TZID=UTC:20140222T170000
DTEND;TZID=UTC:20140222T193000
DTSTAMP:20260424T145959
CREATED:20140214T130250Z
LAST-MODIFIED:20140214T130343Z
UID:400-1393088400-1393097400@www.stthomasmorechurch.co.uk
SUMMARY:Fashion goes bananas!
DESCRIPTION:Fair Trade fashion show at the Bread of Life Trade Centre\, Christchurch\, Barry Road.
URL:http://www.stthomasmorechurch.co.uk/event/fashion-goes-bananas/
LOCATION:Break of Life Fair Trade Centre\, 263 Barry Road\, East Dulwich\, SE22\, United Kingdom
END:VEVENT
END:VCALENDAR