BEGIN:VCALENDAR
VERSION:2.0
PRODID:-//St Thomas More Church, Dulwich - ECPv5.10.0//NONSGML v1.0//EN
CALSCALE:GREGORIAN
METHOD:PUBLISH
X-WR-CALNAME:St Thomas More Church, Dulwich
X-ORIGINAL-URL:http://www.stthomasmorechurch.co.uk
X-WR-CALDESC:Events for St Thomas More Church, Dulwich
BEGIN:VTIMEZONE
TZID:UTC
BEGIN:STANDARD
TZOFFSETFROM:+0000
TZOFFSETTO:+0000
TZNAME:UTC
DTSTART:20140101T000000
END:STANDARD
END:VTIMEZONE
BEGIN:VEVENT
DTSTART;TZID=UTC:20140510T093000
DTEND;TZID=UTC:20140510T130000
DTSTAMP:20260423T150421
CREATED:20140328T161805Z
LAST-MODIFIED:20140328T161805Z
UID:436-1399714200-1399726800@www.stthomasmorechurch.co.uk
SUMMARY:Fair Trade Breakfast
DESCRIPTION:Come along to a Fair Trade Breakfast in aid of Christian Aid at the Bread of Life Cafe\, Christ Church on Barry Road.  (Last orders for breakfast at midday.) \nStalls  for the purchase of Fair Trade goods will be available.
URL:http://www.stthomasmorechurch.co.uk/event/fair-trade-breakfast/
LOCATION:Bread of Life Fair Trade Centre\, Christ Church\, 263 Barry Road\, London\, SE22 0JT\, United Kingdom
END:VEVENT
END:VCALENDAR