BEGIN:VCALENDAR
VERSION:2.0
PRODID:-//St Thomas More Church, Dulwich - ECPv5.10.0//NONSGML v1.0//EN
CALSCALE:GREGORIAN
METHOD:PUBLISH
X-WR-CALNAME:St Thomas More Church, Dulwich
X-ORIGINAL-URL:http://www.stthomasmorechurch.co.uk
X-WR-CALDESC:Events for St Thomas More Church, Dulwich
BEGIN:VTIMEZONE
TZID:UTC
BEGIN:STANDARD
TZOFFSETFROM:+0000
TZOFFSETTO:+0000
TZNAME:UTC
DTSTART:20140101T000000
END:STANDARD
END:VTIMEZONE
BEGIN:VEVENT
DTSTART;TZID=UTC:20140413T180000
DTEND;TZID=UTC:20140413T190000
DTSTAMP:20260424T005912
CREATED:20140328T154858Z
LAST-MODIFIED:20140328T154858Z
UID:431-1397412000-1397415600@www.stthomasmorechurch.co.uk
SUMMARY:Ecumenical Liturgy for Palm Sunday
DESCRIPTION:There will be an ecumenical liturgy at St Philip and St James RC Church\, Herne Hill\, on Palm Sunday.  Fr Michael extends a warm welcome to all.
URL:http://www.stthomasmorechurch.co.uk/event/ecumenical-liturgy-for-palm-sunday/
LOCATION:Ss Philip & James RC Church\, Poplar Walk\, London\, SE24 0BS\, United Kingdom
END:VEVENT
END:VCALENDAR