BEGIN:VCALENDAR
VERSION:2.0
PRODID:-//St Thomas More Church, Dulwich - ECPv5.10.0//NONSGML v1.0//EN
CALSCALE:GREGORIAN
METHOD:PUBLISH
X-WR-CALNAME:St Thomas More Church, Dulwich
X-ORIGINAL-URL:http://www.stthomasmorechurch.co.uk
X-WR-CALDESC:Events for St Thomas More Church, Dulwich
BEGIN:VTIMEZONE
TZID:UTC
BEGIN:STANDARD
TZOFFSETFROM:+0000
TZOFFSETTO:+0000
TZNAME:UTC
DTSTART:20140101T000000
END:STANDARD
END:VTIMEZONE
BEGIN:VEVENT
DTSTART;TZID=UTC:20140927T093000
DTEND;TZID=UTC:20140927T164500
DTSTAMP:20260422T123212
CREATED:20140924T152441Z
LAST-MODIFIED:20140924T152441Z
UID:562-1411810200-1411836300@www.stthomasmorechurch.co.uk
SUMMARY:Day of Renewal
DESCRIPTION:A day of prayer\, worship\, music and talks.  Includes a healing service and Mass.
URL:http://www.stthomasmorechurch.co.uk/event/day-of-renewal/
LOCATION:Amigo Hall (St George’s Cathedral)\, Lambeth Road\, London\, SE1 7HY\, United Kingdom
END:VEVENT
END:VCALENDAR