BEGIN:VCALENDAR
VERSION:2.0
PRODID:-//St Thomas More Church, Dulwich - ECPv5.10.0//NONSGML v1.0//EN
CALSCALE:GREGORIAN
METHOD:PUBLISH
X-WR-CALNAME:St Thomas More Church, Dulwich
X-ORIGINAL-URL:http://www.stthomasmorechurch.co.uk
X-WR-CALDESC:Events for St Thomas More Church, Dulwich
BEGIN:VTIMEZONE
TZID:UTC
BEGIN:STANDARD
TZOFFSETFROM:+0000
TZOFFSETTO:+0000
TZNAME:UTC
DTSTART:20140101T000000
END:STANDARD
END:VTIMEZONE
BEGIN:VEVENT
DTSTART;TZID=UTC:20140301T183000
DTEND;TZID=UTC:20140301T200000
DTSTAMP:20260424T080511
CREATED:20140221T155126Z
LAST-MODIFIED:20140221T155417Z
UID:420-1393698600-1393704000@www.stthomasmorechurch.co.uk
SUMMARY:Confirmation 2014
DESCRIPTION:Bishop Patrick Lynch will confer the Sacrament of Confirmation on a group of our young parishioners next Saturday\, 1 March\, at the 6.30pm Mass.  Please pray for all involved but especially our young people and their families.
URL:http://www.stthomasmorechurch.co.uk/event/confirmation-2014/
END:VEVENT
END:VCALENDAR