BEGIN:VCALENDAR
VERSION:2.0
PRODID:-//St Thomas More Church, Dulwich - ECPv5.10.0//NONSGML v1.0//EN
CALSCALE:GREGORIAN
METHOD:PUBLISH
X-WR-CALNAME:St Thomas More Church, Dulwich
X-ORIGINAL-URL:http://www.stthomasmorechurch.co.uk
X-WR-CALDESC:Events for St Thomas More Church, Dulwich
BEGIN:VTIMEZONE
TZID:UTC
BEGIN:STANDARD
TZOFFSETFROM:+0000
TZOFFSETTO:+0000
TZNAME:UTC
DTSTART:20140101T000000
END:STANDARD
END:VTIMEZONE
BEGIN:VEVENT
DTSTART;VALUE=DATE:20140627
DTEND;VALUE=DATE:20140630
DTSTAMP:20260423T032758
CREATED:20140530T132938Z
LAST-MODIFIED:20140530T132938Z
UID:521-1403827200-1404086399@www.stthomasmorechurch.co.uk
SUMMARY:Bright Lights Festival
DESCRIPTION:Fully Human\, Fully Alive\, Fully Living
URL:http://www.stthomasmorechurch.co.uk/event/bright-lights-festival/
LOCATION:Aylesford Priory\, Kent\, ME20 7BX\, United Kingdom
END:VEVENT
END:VCALENDAR