BEGIN:VCALENDAR
VERSION:2.0
PRODID:-//St Thomas More Church, Dulwich - ECPv5.10.0//NONSGML v1.0//EN
CALSCALE:GREGORIAN
METHOD:PUBLISH
X-WR-CALNAME:St Thomas More Church, Dulwich
X-ORIGINAL-URL:http://www.stthomasmorechurch.co.uk
X-WR-CALDESC:Events for St Thomas More Church, Dulwich
BEGIN:VTIMEZONE
TZID:UTC
BEGIN:STANDARD
TZOFFSETFROM:+0000
TZOFFSETTO:+0000
TZNAME:UTC
DTSTART:20140101T000000
END:STANDARD
END:VTIMEZONE
BEGIN:VEVENT
DTSTART;TZID=UTC:20140621T103000
DTEND;TZID=UTC:20140621T153000
DTSTAMP:20260423T080356
CREATED:20140530T131412Z
LAST-MODIFIED:20140530T131412Z
UID:509-1403346600-1403364600@www.stthomasmorechurch.co.uk
SUMMARY:Being a Church for the Poor
DESCRIPTION:Archdiocese of Southwark Caritas Roadshow\, Saturday 21 June at St Peter’s Catholic Church in Woolwich. \nPromoting social action and social justice\, exploring how we can answer the call of Pope Francis to be a ‘church for the poor‘.\nBishop Pat Lynch invites you to join us to celebrate and share your experience with other volunteers\, parishioners and practitioners. \n\nHear from our Bishop about local need\nShowcase your work in the social action Market Place\nMeet people and share experiences\nTake part n a series of social action workshops\n\nTo confirm your place and to book a stall in the Market Place\, please email Rebecca Hedges on rebecca.hedges@csan.org.uk or telephone 020 7633 4974.
URL:http://www.stthomasmorechurch.co.uk/event/being-a-church-for-the-poor/
LOCATION:St Peter’s Catholic Church\, 103 Woolwich New Road\, London\, SE18 6EF\, United Kingdom
END:VEVENT
END:VCALENDAR