BEGIN:VCALENDAR
VERSION:2.0
PRODID:-//St Thomas More Church, Dulwich - ECPv5.10.0//NONSGML v1.0//EN
CALSCALE:GREGORIAN
METHOD:PUBLISH
X-WR-CALNAME:St Thomas More Church, Dulwich
X-ORIGINAL-URL:http://www.stthomasmorechurch.co.uk
X-WR-CALDESC:Events for St Thomas More Church, Dulwich
BEGIN:VTIMEZONE
TZID:UTC
BEGIN:STANDARD
TZOFFSETFROM:+0000
TZOFFSETTO:+0000
TZNAME:UTC
DTSTART:20140101T000000
END:STANDARD
END:VTIMEZONE
BEGIN:VEVENT
DTSTART;TZID=UTC:20140925T123000
DTEND;TZID=UTC:20140925T133000
DTSTAMP:20260422T140546
CREATED:20140924T153853Z
LAST-MODIFIED:20140924T153853Z
UID:565-1411648200-1411651800@www.stthomasmorechurch.co.uk
SUMMARY:Apostleship of the Sea
DESCRIPTION:Mass for the feast of Our Lady Star of the Sea.
URL:http://www.stthomasmorechurch.co.uk/event/apostleship-of-the-sea/
LOCATION:St George’s Cathedral\, Southwark\, London\, SE1 7HY\, United Kingdom
END:VEVENT
END:VCALENDAR