BEGIN:VCALENDAR
VERSION:2.0
PRODID:-//St Thomas More Church, Dulwich - ECPv5.10.0//NONSGML v1.0//EN
CALSCALE:GREGORIAN
METHOD:PUBLISH
X-WR-CALNAME:St Thomas More Church, Dulwich
X-ORIGINAL-URL:http://www.stthomasmorechurch.co.uk
X-WR-CALDESC:Events for St Thomas More Church, Dulwich
BEGIN:VTIMEZONE
TZID:UTC
BEGIN:STANDARD
TZOFFSETFROM:+0000
TZOFFSETTO:+0000
TZNAME:UTC
DTSTART:20140101T000000
END:STANDARD
END:VTIMEZONE
BEGIN:VEVENT
DTSTART;VALUE=DATE:20140510
DTEND;VALUE=DATE:20140511
DTSTAMP:20260423T163014
CREATED:20140425T141632Z
LAST-MODIFIED:20140425T141632Z
UID:487-1399680000-1399766399@www.stthomasmorechurch.co.uk
SUMMARY:Annual reunion luncheon for past pupils of Coloma Convent Girls' School
DESCRIPTION:For more details\, see the school website
URL:http://www.stthomasmorechurch.co.uk/event/annual-reunion-luncheon-for-past-pupils-of-coloma-convent-girls-school/
LOCATION:Coloma Convent Girls’ School\, United Kingdom
END:VEVENT
END:VCALENDAR