BEGIN:VCALENDAR
VERSION:2.0
PRODID:-//St Thomas More Church, Dulwich - ECPv5.10.0//NONSGML v1.0//EN
CALSCALE:GREGORIAN
METHOD:PUBLISH
X-WR-CALNAME:St Thomas More Church, Dulwich
X-ORIGINAL-URL:http://www.stthomasmorechurch.co.uk
X-WR-CALDESC:Events for St Thomas More Church, Dulwich
BEGIN:VTIMEZONE
TZID:UTC
BEGIN:STANDARD
TZOFFSETFROM:+0000
TZOFFSETTO:+0000
TZNAME:UTC
DTSTART:20140101T000000
END:STANDARD
END:VTIMEZONE
BEGIN:VEVENT
DTSTART;TZID=UTC:20141109T150000
DTEND;TZID=UTC:20141109T160000
DTSTAMP:20260421T233803
CREATED:20141027T110931Z
LAST-MODIFIED:20141027T110931Z
UID:576-1415545200-1415548800@www.stthomasmorechurch.co.uk
SUMMARY:Annual Remembrance Service
DESCRIPTION:The Annual Remembrance Service at Camberwell New Cemetery Chapel will be held on Sunday 9 November at 3pm.  All parishioners and friends welcome.
URL:http://www.stthomasmorechurch.co.uk/event/annual-remembrance-service/
LOCATION:Camberwell New Cemetery\, Brenchley Gardens\, London\, SE23 3RD\, United Kingdom
END:VEVENT
END:VCALENDAR