BEGIN:VCALENDAR
VERSION:2.0
PRODID:-//St Thomas More Church, Dulwich - ECPv5.10.0//NONSGML v1.0//EN
CALSCALE:GREGORIAN
METHOD:PUBLISH
X-WR-CALNAME:St Thomas More Church, Dulwich
X-ORIGINAL-URL:http://www.stthomasmorechurch.co.uk
X-WR-CALDESC:Events for St Thomas More Church, Dulwich
BEGIN:VTIMEZONE
TZID:UTC
BEGIN:STANDARD
TZOFFSETFROM:+0000
TZOFFSETTO:+0000
TZNAME:UTC
DTSTART:20140101T000000
END:STANDARD
END:VTIMEZONE
BEGIN:VEVENT
DTSTART;TZID=UTC:20140505T110000
DTEND;TZID=UTC:20140505T120000
DTSTAMP:20260423T175551
CREATED:20140425T140117Z
LAST-MODIFIED:20140425T140117Z
UID:479-1399287600-1399291200@www.stthomasmorechurch.co.uk
SUMMARY:Annual Mass for Migrants
DESCRIPTION:Main celebrant: Bishop Patrick Lynch\, ss cc
URL:http://www.stthomasmorechurch.co.uk/event/annual-mass-for-migrants/
LOCATION:Westminster Cathedral\, London\, SW1P 1QW\, United Kingdom
END:VEVENT
END:VCALENDAR