BEGIN:VCALENDAR
VERSION:2.0
PRODID:-//St Thomas More Church, Dulwich - ECPv5.10.0//NONSGML v1.0//EN
CALSCALE:GREGORIAN
METHOD:PUBLISH
X-WR-CALNAME:St Thomas More Church, Dulwich
X-ORIGINAL-URL:http://www.stthomasmorechurch.co.uk
X-WR-CALDESC:Events for St Thomas More Church, Dulwich
BEGIN:VTIMEZONE
TZID:UTC
BEGIN:STANDARD
TZOFFSETFROM:+0000
TZOFFSETTO:+0000
TZNAME:UTC
DTSTART:20140101T000000
END:STANDARD
END:VTIMEZONE
BEGIN:VEVENT
DTSTART;TZID=UTC:20141115T110000
DTEND;TZID=UTC:20141115T160000
DTSTAMP:20260421T202021
CREATED:20141029T112621Z
LAST-MODIFIED:20141029T112621Z
UID:578-1416049200-1416067200@www.stthomasmorechurch.co.uk
SUMMARY:Annual Day of Recollection
DESCRIPTION:The Annual Day of Recollection for Extraordinary Ministers of Holy Communion and Readers is being held at Bishop Thomas Grant School on Saturday 15 November at 11am and finishing at 3pm with Mass.  Please let Fr Gerry or Fr Lixon know if you will be attending.
URL:http://www.stthomasmorechurch.co.uk/event/annual-day-of-recollection/
LOCATION:Bishop Thomas Grant School\, Belltrees Grove\, London\, SW16 2HY\, United Kingdom
END:VEVENT
END:VCALENDAR