BEGIN:VCALENDAR
VERSION:2.0
PRODID:-//St Thomas More Church, Dulwich - ECPv5.10.0//NONSGML v1.0//EN
CALSCALE:GREGORIAN
METHOD:PUBLISH
X-WR-CALNAME:St Thomas More Church, Dulwich
X-ORIGINAL-URL:http://www.stthomasmorechurch.co.uk
X-WR-CALDESC:Events for St Thomas More Church, Dulwich
BEGIN:VTIMEZONE
TZID:UTC
BEGIN:STANDARD
TZOFFSETFROM:+0000
TZOFFSETTO:+0000
TZNAME:UTC
DTSTART:20140101T000000
END:STANDARD
END:VTIMEZONE
BEGIN:VEVENT
DTSTART;TZID=UTC:20140705T220000
DTEND;TZID=UTC:20140705T220000
DTSTAMP:20260422T214353
CREATED:20140530T134430Z
LAST-MODIFIED:20140530T134710Z
UID:529-1404597600-1404597600@www.stthomasmorechurch.co.uk
SUMMARY:All Night Vigils
DESCRIPTION:At the Priory in Aylesford.  Saturdays from 10pm to 6am. \nTaking place on 6 May\, 5 July 6 September.
URL:http://www.stthomasmorechurch.co.uk/event/all-night-vigils/
LOCATION:Aylesford Priory\, Kent\, ME20 7BX\, United Kingdom
END:VEVENT
END:VCALENDAR