BEGIN:VCALENDAR
VERSION:2.0
PRODID:-//St Thomas More Church, Dulwich - ECPv5.10.0//NONSGML v1.0//EN
CALSCALE:GREGORIAN
METHOD:PUBLISH
X-WR-CALNAME:St Thomas More Church, Dulwich
X-ORIGINAL-URL:http://www.stthomasmorechurch.co.uk
X-WR-CALDESC:Events for St Thomas More Church, Dulwich
BEGIN:VTIMEZONE
TZID:UTC
BEGIN:STANDARD
TZOFFSETFROM:+0000
TZOFFSETTO:+0000
TZNAME:UTC
DTSTART:20130101T000000
END:STANDARD
END:VTIMEZONE
BEGIN:VEVENT
DTSTART;TZID=UTC:20131105T073000
DTEND;TZID=UTC:20131105T220000
DTSTAMP:20260425T154802
CREATED:20131104T103632Z
LAST-MODIFIED:20131104T103632Z
UID:290-1383636600-1383688800@www.stthomasmorechurch.co.uk
SUMMARY:A Night Under the Stars
DESCRIPTION:The Passage will be holding a concert at the Royal Festival Hall to raise funds for the charity.  The theme is The Mozart Experience.
URL:http://www.stthomasmorechurch.co.uk/event/a-night-under-the-stars/
LOCATION:Royal Festival Hall
END:VEVENT
END:VCALENDAR