BEGIN:VCALENDAR
VERSION:2.0
PRODID:-//St Thomas More Church, Dulwich - ECPv5.10.0//NONSGML v1.0//EN
CALSCALE:GREGORIAN
METHOD:PUBLISH
X-WR-CALNAME:St Thomas More Church, Dulwich
X-ORIGINAL-URL:http://www.stthomasmorechurch.co.uk
X-WR-CALDESC:Events for St Thomas More Church, Dulwich
BEGIN:VTIMEZONE
TZID:UTC
BEGIN:STANDARD
TZOFFSETFROM:+0000
TZOFFSETTO:+0000
TZNAME:UTC
DTSTART:20140101T000000
END:STANDARD
END:VTIMEZONE
BEGIN:VEVENT
DTSTART;TZID=UTC:20140208T103000
DTEND;TZID=UTC:20140208T153000
DTSTAMP:20260425T020410
CREATED:20140124T130503Z
LAST-MODIFIED:20140124T130503Z
UID:386-1391855400-1391873400@www.stthomasmorechurch.co.uk
SUMMARY:A Call to Action!
DESCRIPTION:You are invited to an open meeting at the Amigo Hall (St George’s Cathedral).  Canon Michael Cooley will be speaking on building ‘missionary communities’ in our diocese.
URL:http://www.stthomasmorechurch.co.uk/event/a-call-to-action/
LOCATION:Amigo Hall (St George’s Cathedral)\, Lambeth Road\, London\, SE1 7HY\, United Kingdom
END:VEVENT
END:VCALENDAR